Workbook

Sheet Talep Formu
C2: BOTAŞ | J2: Tarih: …../…../……….
C4: Boru Hatları İle Petrol Taşıma A.Ş.
C5: CNG MÜŞTERİLERİ İLAVE DOĞAL GAZ TALEP BİLDİRİM FORMU
C6: 1- İletişim Bilgileri
C8: Tesisin Adı : | G8: Fatura Adresi:
C10: Yazışma Adresi:
G11: Vergi Dairesi:
G12: Vergi Numarası:
C13: Tesis Bilgileri | G13: Kayıtlı İletişim Bilgileri
C14: Tesis Telefon : | G14: Kayıtlı E-Posta (KEP):
C15: Tesis Faks: | G15: Kurumsal E-Posta:
C16: İlgili Kişi: | G16: Kurumsal Telefon:
C17: İlgili Kişi Sabit Hat Telefonu: | G17: Kurumsal Faks:
C18: İlgili Kişi Cep Telefonu:
C20: Tesiste İlk Kez Gaz Kullanımına Başlangıç Tarihi: | E20: ………./………/……….
C22: Tesis/Tesislerde Doğal Gaz Kullanımı İlk Kez Bu Sözleşme Döneminde gerçekleşecektir.
C24: Bir Önceki Gaz Yılı Tedarikçisi
C25: BOTAŞ | D25: BOTAŞ + Diğer Tedarikçi: | E25: …………………………………… | F25: Diğer Tedarikçi: | G25: ………………………………….
C27: Doğal Gaz Dağıtım Bölgesi
C28: Dışı | D28: İçi / Dağıtım Şirketi: | E28: …………………………………..
C30: 2- ………… Yılı CNG Üretimi Amaçlı İlave Doğal Gaz Miktarlarının Aylık Dağılımı
D34: CNG Üretimi Amaçlı Doğal Gaz Ölçüm Sistemleri | J34: Toplam
D35: Nokta Adı Giriniz | G35: Nokta Adı Giriniz
D36: Ölçüm Sistemi (1) | G36: Ölçüm Sistemi (2)
C37: Nace Kodu
D38: =+IF(D37="","",IFERROR(VLOOKUP(D$37,'Nace Kodları'!$A$2:$B$3201,2,FALSE),"Lütfen Geçerli Bir NACE Kodu Giriniz")) | G38: =+IF(G37="","",IFERROR(VLOOKUP(G$37,'Nace Kodları'!$A$2:$B$3201,2,FALSE),"Lütfen Geçerli Bir NACE Kodu Giriniz"))
C39: Aylar | D39: CNG Konut | E39: CNG Kademe-1 | F39: CNG | G39: CNG Konut | H39: CNG Kademe-1 | I39: CNG | J39: CNG Üretimi Amaçlı
C40: Ocak | J40: =SUM(D40:I40) -> 0
C41: Şubat | J41: =SUM(D41:I41) -> 0
C42: Mart | J42: =SUM(D42:I42) -> 0
C43: Nisan | J43: =SUM(D43:I43) -> 0
C44: Mayıs | J44: =SUM(D44:I44) -> 0
C45: Haziran | J45: =SUM(D45:I45) -> 0
C46: Temmuz | J46: =SUM(D46:I46) -> 0
C47: Ağustos | J47: =SUM(D47:I47) -> 0
C48: Eylül | J48: =SUM(D48:I48) -> 0
C49: Ekim | J49: =SUM(D49:I49) -> 0
C50: Kasım | J50: =SUM(D50:I50) -> 0
C51: Aralık | J51: =SUM(D51:I51) -> 0
C52: Toplam | D52: =SUM(D40:D51) -> 0 | E52: =SUM(E40:E51) -> 0 | F52: =SUM(F40:F51) -> 0 | G52: =SUM(G40:G51) -> 0 | H52: =SUM(H40:H51) -> 0 | I52: =SUM(I40:I51) -> 0 | J52: =SUM(J40:J51) -> 0
...

Sheet TEHİS Taahhütname
I4: …../……/……….
A6: TAAHHÜTNAME
B10: 20.... Gaz Yılı için işbu Taahhütname ile;
C12: -BOTAŞ, Müşteri ve Dağıtım Şirketi arasında imzalanacak olan Teslim Hizmeti Sözleşmesi (TEHİS)'nin hazırlanmasında; Müşteri ve Dağıtım Şirketinin karşılıklı mutabakatı ile hazırlanmış olan EK-1 ve EK-2'deki bilgilerin esas alınacağını,
C13: -EK-1 ve EK-2'deki bilgilere göre hazırlanan TEHİS'in ilgili taraflarca imzalanacağını,
B16: Müşteri ve Dağıtım Şirketi kabul ve taahhüt eder.
B21: EK-1: Ölçüm Ekipmanları’na İlişkin Bilgiler
B22: EK-2: Ölçüm Sistemlerine İlişkin Bilgiler
B25: (MÜŞTERİ) ADINA | F25: (DAĞITIM ŞİRKETİ) ADINA
B27: Şirket Kaşesi : | F27: Şirket Kaşesi :
B32: İmzalar : | F32: İmzalar :
B37: İsim ve Unvanlar : | F37: İsim ve Unvanlar :

Sheet Taahhütname EK-1
E2: EK-1
B4: Ölçüm Ekipmanları’na İlişkin Bilgiler
B7: Son Kullanıcı Teslim Noktasındaki İstasyonda bulunan ölçüm ekipmanlarına ilişkin aşağıdaki bilgiler verilmiştir;
C9: HAT 1 | D9: HAT 2 | E9: Mutfak Hattı
B10: SAYAÇ ÜRETİM YILI
B11: SAYAÇ MARKASI
B12: SAYAÇ MODELİ / TİPİ
B13: SAYAÇ SERİ NO
B14: G
B15: DN
B16: ANSI
B17: Hf
B18: Lf
B19: Qmax (m³/h)
B20: Qmin (m³/h)
B21: YÜKSEK BASINÇ KALİBRASYONU
... B35: SICAKLIK TRANSMİTTER SERİ NO

Sheet Taahhütname EK-2
G2: EK-2
C4: (ÖLÇÜM SİSTEMİ-1) | D4: (ÖLÇÜM SİSTEMİ-2) | E4: (ÖLÇÜM SİSTEMİ-3) | F4: (ÖLÇÜM SİSTEMİ-4) | G4: (ÖLÇÜM SİSTEMİ-5)
B5: ELEKTRONİK BÜLTEN TABLOSU (EBT)'NDA TANIMLI ÖLÇÜM SİSTEM ADI
B6: ÖLÇÜM SİSTEMİ KAPASİTESİ (Sm³/ Saat)
B7: ASGARİ TESLİM BASINCI (Barg)
B8: YAN HİZMET ASGARİ TESLİM BASINCI (Barg)
B9: ASGARİ TESLİM SICAKLIĞI (°C)

Sheet Nace Kodları
A1: Kod | B1: Tanım
A2: A | B2: TARIM, ORMANCILIK VE BALIKÇILIK
A3: 01 | B3: Bitkisel Ve Hayvansal Üretim İle Avcılık Ve İlgili Hizmet Faaliyetleri
A4: 01.1 | B4: Tek Yıllık (Uzun Ömürlü Olmayan) Bitkisel Ürünlerin Yetiştirilmesi
A5: 01.11 | B5: Tahılların (Pirinç Hariç), Baklagillerin Ve Yağlı Tohumların Yetiştirilmesi
A6: 01.11.07 | B6: Baklagillerin Yetiştirilmesi (Fasulye (Taze Ve Kuru), Bakla, Nohut, Mercimek, Acı Bakla, Bezelye, Araka Vb.)
A7: 01.11.12 | B7: Tahıl Yetiştiriciliği (Buğday, Dane Mısır, Süpürge Darısı, Arpa, Çavdar, Yulaf, Darı, Kuş Yemi Vb.) (Pirinç Hariç)
A8: 01.11.14 | B8: Yağlı Tohum Yetiştiriciliği (Soya Fasulyesi, Yer Fıstığı, Pamuk Çekirdeği, Kene Otu Çekirdeği (Hint Yağı Çekirdeği), Keten Tohumu, Hardal Tohumu, Nijer Tohumu, Kolza, Aspir Tohumu, Susam Tohumu, Ayçiçeği Tohumu Vb.)
A9: 01.12 | B9: Çeltik (Kabuklu Pirinç) Yetiştirilmesi
A10: 01.12.14 | B10: Çeltik (Kabuklu Pirinç) Yetiştirilmesi
A11: 01.13 | B11: Sebze, Kavun-Karpuz, Kök Ve Yumru Sebzelerin Yetiştirilmesi
A12: 01.13.17 | B12: Şeker Pancarı Yetiştirilmesi
... A3201: 66.13.01 | B3201: Kendi Adına Menkul Sermaye İradı Faaliyetleri (Temettü, Banka Faizi, İştirak Kazançları, Huzur Hakkı Vb.)
